BEGIN:VCALENDAR
VERSION:2.0
PRODID:icalendar-ruby
CALSCALE:GREGORIAN
METHOD:PUBLISH
BEGIN:VEVENT
DTSTAMP:20260420T131635Z
UID:2-9446@herefordheartland.com
DTSTART:20260424T103000Z
DTEND:20260424T113000Z
CLASS:PUBLIC
CREATED:20260325T102031
DESCRIPTION:All men are welcome to join us on Friday mornings at 6:30 AM as
  we read and discuss "Unoffendable" by Brant Hansen. (There is also a Mond
 ay evening meeting at 7 PM and both groups will be covering the same mater
 ial.) For updates and info\, email Martin Covington! rogue@herefordheartla
 nd.com
LAST-MODIFIED:20260325T102031
LOCATION:See email!
SUMMARY:ROGUE: AM
URL;VALUE=URI:https://www.herefordheartland.com/events/rogue-am--2/2026-04-
 24
ATTACH;FILENAME=Rogue-Spring-26.png;FMTTYPE=image/png:https://dq5pwpg1q8ru0
 .cloudfront.net/2026/03/25/14/09/33/0a24355c-8168-4342-8b25-46424da6a58d/R
 ogue-Spring-26.png
END:VEVENT
END:VCALENDAR
